BEGIN:VCALENDAR
VERSION:2.0
PRODID:-//Syracuse St. Patrick's Parade | Syracuse, NY - ECPv5.14.0.2//NONSGML v1.0//EN
CALSCALE:GREGORIAN
METHOD:PUBLISH
X-WR-CALNAME:Syracuse St. Patrick's Parade | Syracuse, NY
X-ORIGINAL-URL:https://www.syracusestpatricksparade.org
X-WR-CALDESC:Events for Syracuse St. Patrick's Parade | Syracuse, NY
BEGIN:VTIMEZONE
TZID:America/New_York
BEGIN:DAYLIGHT
TZOFFSETFROM:-0500
TZOFFSETTO:-0400
TZNAME:EDT
DTSTART:20240310T070000
END:DAYLIGHT
BEGIN:STANDARD
TZOFFSETFROM:-0400
TZOFFSETTO:-0500
TZNAME:EST
DTSTART:20241103T060000
END:STANDARD
END:VTIMEZONE
BEGIN:VEVENT
DTSTART;TZID=America/New_York:20241208T120000
DTEND;TZID=America/New_York:20241208T160000
DTSTAMP:20260421T150008
CREATED:20241201T044237Z
LAST-MODIFIED:20241201T045433Z
UID:31342-1733659200-1733673600@www.syracusestpatricksparade.org
SUMMARY:2024 St. Patrick Hunger Project Holiday Raffle
DESCRIPTION:
URL:https://www.syracusestpatricksparade.org/event/2024-hunger-project-holiday-raffle/
LOCATION:Nibsy’s\, 201 Ulster St\, Syracuse\, NY\, 13202\, United States
ORGANIZER;CN="Syracuse%20St.%20Patrick%27s%20Parade":MAILTO:info@syracuseparade.org
END:VEVENT
END:VCALENDAR