BEGIN:VCALENDAR
VERSION:2.0
PRODID:-//Syracuse St. Patrick's Parade | Syracuse, NY - ECPv5.14.0.2//NONSGML v1.0//EN
CALSCALE:GREGORIAN
METHOD:PUBLISH
X-WR-CALNAME:Syracuse St. Patrick's Parade | Syracuse, NY
X-ORIGINAL-URL:https://www.syracusestpatricksparade.org
X-WR-CALDESC:Events for Syracuse St. Patrick's Parade | Syracuse, NY
BEGIN:VTIMEZONE
TZID:America/New_York
BEGIN:DAYLIGHT
TZOFFSETFROM:-0500
TZOFFSETTO:-0400
TZNAME:EDT
DTSTART:20240310T070000
END:DAYLIGHT
BEGIN:STANDARD
TZOFFSETFROM:-0400
TZOFFSETTO:-0500
TZNAME:EST
DTSTART:20241103T060000
END:STANDARD
END:VTIMEZONE
BEGIN:VEVENT
DTSTART;VALUE=DATE:20240317
DTEND;VALUE=DATE:20240318
DTSTAMP:20260422T061850
CREATED:20240216T032501Z
LAST-MODIFIED:20240216T032501Z
UID:31261-1710633600-1710719999@www.syracusestpatricksparade.org
SUMMARY:Happy St. Patrick's Day 2024
DESCRIPTION:Be safe!
URL:https://www.syracusestpatricksparade.org/event/happy-st-patricks-day-2024/
END:VEVENT
END:VCALENDAR