BEGIN:VCALENDAR
VERSION:2.0
PRODID:-//Syracuse St. Patrick's Parade | Syracuse, NY - ECPv5.14.0.2//NONSGML v1.0//EN
CALSCALE:GREGORIAN
METHOD:PUBLISH
X-WR-CALNAME:Syracuse St. Patrick's Parade | Syracuse, NY
X-ORIGINAL-URL:https://www.syracusestpatricksparade.org
X-WR-CALDESC:Events for Syracuse St. Patrick's Parade | Syracuse, NY
BEGIN:VTIMEZONE
TZID:America/New_York
BEGIN:DAYLIGHT
TZOFFSETFROM:-0500
TZOFFSETTO:-0400
TZNAME:EDT
DTSTART:20240310T070000
END:DAYLIGHT
BEGIN:STANDARD
TZOFFSETFROM:-0400
TZOFFSETTO:-0500
TZNAME:EST
DTSTART:20241103T060000
END:STANDARD
END:VTIMEZONE
BEGIN:VEVENT
DTSTART;TZID=America/New_York:20240315T093000
DTEND;TZID=America/New_York:20240315T103000
DTSTAMP:20260422T061035
CREATED:20231206T042135Z
LAST-MODIFIED:20231206T042135Z
UID:31113-1710495000-1710498600@www.syracusestpatricksparade.org
SUMMARY:Painting of the Green Stripe
DESCRIPTION:Painting of the Green Stripe\, 9:30 am.
URL:https://www.syracusestpatricksparade.org/event/painting-of-the-green-stripe-2/
LOCATION:Nancy Duffy Lane\, So Salina St\, Syracuse
END:VEVENT
BEGIN:VEVENT
DTSTART;TZID=America/New_York:20240315T180000
DTEND;TZID=America/New_York:20240315T210000
DTSTAMP:20260422T061035
CREATED:20231206T042247Z
LAST-MODIFIED:20240216T031142Z
UID:31115-1710525600-1710536400@www.syracusestpatricksparade.org
SUMMARY:Grand Marshal Gala 
DESCRIPTION:Grand Marshal Gala with cocktails\, dinner and entertainment at the Marriott Syracuse Downtown\, 6 p.m. Buy Tickets (not sold at the door) https://www.syracusestpatricksparade.org/2024-grand-marshal-gala/
URL:https://www.syracusestpatricksparade.org/event/grand-marshal-gala-4/
LOCATION:Marriott Syracuse Downtown\, 100 East Onondaga Street\, Syracuse\, NY\, 13202\, United States
END:VEVENT
END:VCALENDAR