BEGIN:VCALENDAR
VERSION:2.0
PRODID:-//Syracuse St. Patrick's Parade | Syracuse, NY - ECPv5.14.0.2//NONSGML v1.0//EN
CALSCALE:GREGORIAN
METHOD:PUBLISH
X-WR-CALNAME:Syracuse St. Patrick's Parade | Syracuse, NY
X-ORIGINAL-URL:https://www.syracusestpatricksparade.org
X-WR-CALDESC:Events for Syracuse St. Patrick's Parade | Syracuse, NY
BEGIN:VTIMEZONE
TZID:America/New_York
BEGIN:DAYLIGHT
TZOFFSETFROM:-0500
TZOFFSETTO:-0400
TZNAME:EDT
DTSTART:20230312T070000
END:DAYLIGHT
BEGIN:STANDARD
TZOFFSETFROM:-0400
TZOFFSETTO:-0500
TZNAME:EST
DTSTART:20231105T060000
END:STANDARD
END:VTIMEZONE
BEGIN:VEVENT
DTSTART;TZID=America/New_York:20230311T120000
DTEND;TZID=America/New_York:20230311T150000
DTSTAMP:20260423T024307
CREATED:20220511T004512Z
LAST-MODIFIED:20220511T004512Z
UID:30789-1678536000-1678546800@www.syracusestpatricksparade.org
SUMMARY:41st Anniversary Syracuse St. Patrick's Parade
DESCRIPTION:The St. Patrick’s Parade airs live on NewsChannel 9 WSYR from noon to 3 pm.
URL:https://www.syracusestpatricksparade.org/event/41st-anniversary-syracuse-st-patricks-parade/
LOCATION:Nancy Duffy Lane (So Salina Street) Syracuse\, 161 W Genesee St\, Syracuse\, NY\, 13202\, United States
END:VEVENT
END:VCALENDAR