BEGIN:VCALENDAR
VERSION:2.0
PRODID:-//Syracuse St. Patrick's Parade | Syracuse, NY - ECPv5.14.0.2//NONSGML v1.0//EN
CALSCALE:GREGORIAN
METHOD:PUBLISH
X-WR-CALNAME:Syracuse St. Patrick's Parade | Syracuse, NY
X-ORIGINAL-URL:https://www.syracusestpatricksparade.org
X-WR-CALDESC:Events for Syracuse St. Patrick's Parade | Syracuse, NY
BEGIN:VTIMEZONE
TZID:America/New_York
BEGIN:DAYLIGHT
TZOFFSETFROM:-0500
TZOFFSETTO:-0400
TZNAME:EDT
DTSTART:20220313T070000
END:DAYLIGHT
BEGIN:STANDARD
TZOFFSETFROM:-0400
TZOFFSETTO:-0500
TZNAME:EST
DTSTART:20221106T060000
END:STANDARD
END:VTIMEZONE
BEGIN:VEVENT
DTSTART;TZID=America/New_York:20220311T100000
DTEND;TZID=America/New_York:20220311T110000
DTSTAMP:20260420T024655
CREATED:20220304T214604Z
LAST-MODIFIED:20220310T015241Z
UID:30691-1646992800-1646996400@www.syracusestpatricksparade.org
SUMMARY:Paint the Green Line
DESCRIPTION:Painting that green line down Nancy Duffy Lane (Salina Street).
URL:https://www.syracusestpatricksparade.org/event/paint-the-green-line/
END:VEVENT
END:VCALENDAR