BEGIN:VCALENDAR
VERSION:2.0
PRODID:-//Syracuse St. Patrick's Parade | Syracuse, NY - ECPv5.14.0.2//NONSGML v1.0//EN
CALSCALE:GREGORIAN
METHOD:PUBLISH
X-WR-CALNAME:Syracuse St. Patrick's Parade | Syracuse, NY
X-ORIGINAL-URL:https://www.syracusestpatricksparade.org
X-WR-CALDESC:Events for Syracuse St. Patrick's Parade | Syracuse, NY
BEGIN:VTIMEZONE
TZID:America/New_York
BEGIN:DAYLIGHT
TZOFFSETFROM:-0500
TZOFFSETTO:-0400
TZNAME:EDT
DTSTART:20230312T070000
END:DAYLIGHT
BEGIN:STANDARD
TZOFFSETFROM:-0400
TZOFFSETTO:-0500
TZNAME:EST
DTSTART:20231105T060000
END:STANDARD
END:VTIMEZONE
BEGIN:VEVENT
DTSTART;TZID=America/New_York:20231210T140000
DTEND;TZID=America/New_York:20231210T180000
DTSTAMP:20260422T100323
CREATED:20231206T040854Z
LAST-MODIFIED:20231206T040854Z
UID:31103-1702216800-1702231200@www.syracusestpatricksparade.org
SUMMARY:Hunger Project Holiday Raffle 2023
DESCRIPTION:Hunger Project Holiday Raffle event\, 2pm-6pm\, Nibsy’s Irish Pub\, 201 Ulster St. Fundraiser for Hunger Project\, all proceeds benefit the hungry.
URL:https://www.syracusestpatricksparade.org/event/hunger-project-holiday-raffle-2023/
LOCATION:Nibsy’s\, 201 Ulster St\, Syracuse\, NY\, 13202\, United States
END:VEVENT
END:VCALENDAR